Felt | Verdi |
AlreadyApplied | True |
Aperture | 8.0 |
ApertureValue | 8.0 |
Artist | André Kvevik |
AutoLateralCA | 0 |
AutoWhiteVersion | 134348800 |
BitsPerSample | 8 |
Blacks2012 | 0 |
BlueHue | 0 |
BlueSaturation | 0 |
By-line | André Kvevik |
CameraProfile | Embedded |
CircleOfConfusion | 0.030 mm |
Clarity2012 | 0 |
ColorComponents | 3 |
ColorNoiseReduction | 0 |
ColorSpace | sRGB |
ColorTransform | YCbCr |
Contrast | Normal |
Contrast2012 | 0 |
ConvertToGrayscale | False |
Copyright | André Kvevik |
CopyrightNotice | André Kvevik |
CreateDate | 2017:02:05 12:25:50 |
Creator | André Kvevik |
CreatorTool | Adobe Photoshop Lightroom 6.9 (Macintosh) |
CustomRendered | Custom |
DateCreated (1) | 2017:02:05 |
DateCreated | 2017:02:05 12:25:50 |
DateTimeOriginal | 2017:02:05 12:25:50 |
DefringeGreenAmount | 0 |
DefringeGreenHueHi | 60 |
DefringeGreenHueLo | 40 |
DefringePurpleAmount | 0 |
DefringePurpleHueHi | 70 |
DefringePurpleHueLo | 30 |
Dehaze | 0 |
DigitalZoomRatio | 1 |
Exposure2012 | 0.00 |
ExposureCompensation | 0 |
ExposureMode | Manual |
ExposureProgram | Manual |
ExposureTime | 1/40 |
Flash | On, Return not detected |
FNumber | 8.0 |
FocalLength | 145.0 mm |
FocalLength35efl | 145.0 mm (35 mm equivalent: 145.0 mm) |
FocalLengthIn35mmFormat | 145 mm |
Format | image/jpeg |
FOV | 14.2 deg |
GainControl | None |
GrainAmount | 0 |
GreenHue | 0 |
GreenSaturation | 0 |
HasCrop | False |
HasExtendedXMP | 8932D58476D96084C85B2793F3057494 |
HasSettings | True |
Highlights2012 | 0 |
HueAdjustmentAqua | 0 |
HueAdjustmentBlue | 0 |
HueAdjustmentGreen | 0 |
HueAdjustmentMagenta | 0 |
HueAdjustmentOrange | 0 |
HueAdjustmentPurple | 0 |
HueAdjustmentRed | 0 |
HueAdjustmentYellow | 0 |
HyperfocalDistance | 87.47 m |
ImageHeight | 7360 |
ImageNumber | 31301 |
ImageSize | 4912x7360 |
ImageWidth | 4912 |
IncrementalTemperature | 0 |
IncrementalTint | 0 |
ISO | 200 |
Keywords | Tonde Portrett 2 |
Lens | TAMRON SP 70-200mm F2.8 Di VC USD A009N |
LensID (1) | 254 |
LensID | Tamron SP AF 70-200mm f/2.8 Di LD (IF) Macro (A001) or Tamron SP 70-200mm f/2.8 Di VC USD (A009) |
LensInfo | 70-200mm f/2.8 |
LensManualDistortionAmount | 0 |
LensModel | TAMRON SP 70-200mm F2.8 Di VC USD A009N |
LensProfileEnable | 0 |
LensProfileSetup | LensDefaults |
LightSource | Flash |
LightValue | 10.3 |
LuminanceAdjustmentAqua | 0 |
LuminanceAdjustmentBlue | 0 |
LuminanceAdjustmentGreen | 0 |
LuminanceAdjustmentMagenta | 0 |
LuminanceAdjustmentOrange | 0 |
LuminanceAdjustmentPurple | 0 |
LuminanceAdjustmentRed | 0 |
LuminanceAdjustmentYellow | 0 |
LuminanceSmoothing | 0 |
Make | NIKON CORPORATION |
MaxApertureValue | 2.8 |
Megapixels | 36.2 |
MeteringMode | Spot |
Model | NIKON D800 |
ModifyDate (1) | 2017:03:24 22:46:13+01:00 |
ModifyDate | 2017:03:24 22:46:13 |
PaintCorrectionActive | true |
PaintCorrectionAmount | 1.000000 |
PaintCorrectionBrightness | 0.000000 |
PaintCorrectionClarity2012 (1) | 0.100000 |
PaintCorrectionClarity2012 | 0.000000 |
PaintCorrectionContrast2012 | 0.000000 |
PaintCorrectionDefringe | 0.000000 |
PaintCorrectionExposure2012 (1) | 0.124645 |
PaintCorrectionExposure2012 (4) | 0.112038 |
PaintCorrectionExposure2012 | -1.000000 |
PaintCorrectionHighlights2012 | 0.000000 |
PaintCorrectionHue | 240.000000 |
PaintCorrectionLocalBlacks2012 | 0.000000 |
PaintCorrectionLocalDehaze | 0.000000 |
PaintCorrectionLocalWhites2012 | 0.000000 |
PaintCorrectionLuminanceNoise | 0.000000 |
PaintCorrectionMaskCenterWeight | 0.000000 |
PaintCorrectionMaskFlow (1) | 0.758120 |
PaintCorrectionMaskFlow (10) | 0.480432 |
PaintCorrectionMaskFlow (11) | 0.661720 |
PaintCorrectionMaskFlow (13) | 0.792810 |
PaintCorrectionMaskFlow (14) | 0.194492 |
PaintCorrectionMaskFlow (15) | 0.718003 |
PaintCorrectionMaskFlow (16) | 0.812848 |
PaintCorrectionMaskFlow (17) | 0.903268 |
PaintCorrectionMaskFlow (19) | 0.843066 |
PaintCorrectionMaskFlow (2) | 0.826602 |
PaintCorrectionMaskFlow (20) | 0.797866 |
PaintCorrectionMaskFlow (21) | 0.849381 |
PaintCorrectionMaskFlow (23) | 0.684162 |
PaintCorrectionMaskFlow (24) | 0.802779 |
PaintCorrectionMaskFlow (25) | 0.864542 |
PaintCorrectionMaskFlow (26) | 0.590025 |
PaintCorrectionMaskFlow (27) | 0.675180 |
PaintCorrectionMaskFlow (28) | 0.390961 |
PaintCorrectionMaskFlow (29) | 0.908977 |
PaintCorrectionMaskFlow (30) | 0.895102 |
PaintCorrectionMaskFlow (31) | 0.887912 |
PaintCorrectionMaskFlow (32) | 0.860785 |
PaintCorrectionMaskFlow (33) | 0.749058 |
PaintCorrectionMaskFlow (34) | 0.759883 |
PaintCorrectionMaskFlow (35) | 0.870451 |
PaintCorrectionMaskFlow (36) | 0.259771 |
PaintCorrectionMaskFlow (37) | 0.850408 |
PaintCorrectionMaskFlow (38) | 0.796437 |
PaintCorrectionMaskFlow (39) | 0.786063 |
PaintCorrectionMaskFlow (40) | 0.677782 |
PaintCorrectionMaskFlow (41) | 0.868664 |
PaintCorrectionMaskFlow (43) | 0.664474 |
PaintCorrectionMaskFlow (44) | 0.879464 |
PaintCorrectionMaskFlow (45) | 0.847306 |
PaintCorrectionMaskFlow (46) | 0.681631 |
PaintCorrectionMaskFlow (47) | 0.831317 |
PaintCorrectionMaskFlow (48) | 0.862676 |
PaintCorrectionMaskFlow (49) | 0.823582 |
PaintCorrectionMaskFlow (5) | 0.821124 |
PaintCorrectionMaskFlow (51) | 0.125219 |
PaintCorrectionMaskFlow (52) | 0.878213 |
PaintCorrectionMaskFlow (53) | 0.858385 |
PaintCorrectionMaskFlow (6) | 0.773449 |
PaintCorrectionMaskFlow (7) | 0.819881 |
PaintCorrectionMaskFlow (8) | 0.890223 |
PaintCorrectionMaskFlow (9) | 0.599017 |
PaintCorrectionMaskFlow | 0.873523 |
PaintCorrectionMaskRadius (2) | 0.017559 |
PaintCorrectionMaskRadius (36) | 0.000438 |
PaintCorrectionMaskRadius (41) | 0.003526 |
PaintCorrectionMaskRadius (46) | 0.001914 |
PaintCorrectionMaskRadius (7) | 0.013482 |
PaintCorrectionMaskRadius | 0.002712 |
PaintCorrectionMaskValue | 1.000000 |
PaintCorrectionMaskWhat | Mask/Paint |
PaintCorrectionMoire | 0.000000 |
PaintCorrectionSaturation (1) | 0.400000 |
PaintCorrectionSaturation | 0.000000 |
PaintCorrectionShadows2012 | 0.000000 |
PaintCorrectionSharpness | 0.000000 |
PaintCorrectionTemperature | 0.000000 |
PaintCorrectionTint | 0.000000 |
PaintCorrectionWhat | Correction |
ParametricDarks | 0 |
ParametricHighlights | 0 |
ParametricHighlightSplit | 75 |
ParametricLights | 0 |
ParametricMidtoneSplit | 50 |
ParametricShadows | 0 |
ParametricShadowSplit | 25 |
PerspectiveAspect | 0 |
PerspectiveHorizontal | 0 |
PerspectiveRotate | 0.0 |
PerspectiveScale | 100 |
PerspectiveUpright | 0 |
PerspectiveVertical | 0 |
PerspectiveX | 0.00 |
PerspectiveY | 0.00 |
PostCropVignetteAmount | 0 |
ProcessVersion | 6.7 |
ProfileDescription | sRGB IEC61966-2.1 |
Rating | 2 |
RedHue | 0 |
RedSaturation | 0 |
Rights | André Kvevik |
Saturation (1) | 0 |
Saturation | Normal |
SaturationAdjustmentAqua | 0 |
SaturationAdjustmentBlue | 0 |
SaturationAdjustmentGreen | 0 |
SaturationAdjustmentMagenta | 0 |
SaturationAdjustmentOrange | 0 |
SaturationAdjustmentPurple | 0 |
SaturationAdjustmentRed | 0 |
SaturationAdjustmentYellow | 0 |
ScaleFactor35efl | 1.0 |
SceneCaptureType | Standard |
SceneType | Directly photographed |
SensingMethod | One-chip color area |
SensitivityType | Recommended Exposure Index |
SerialNumber | 6085980 |
Shadows2012 | 0 |
ShadowTint | 0 |
SharpenDetail | 25 |
SharpenEdgeMasking | 0 |
SharpenRadius | +1.0 |
Sharpness (1) | 0 |
Sharpness | Normal |
ShutterSpeed | 1/40 |
ShutterSpeedValue | 1/40 |
Software | Adobe Photoshop Lightroom 6.9 (Macintosh) |
SplitToningBalance | 0 |
SplitToningHighlightHue | 0 |
SplitToningHighlightSaturation | 0 |
SplitToningShadowHue | 0 |
SplitToningShadowSaturation | 0 |
Subject | Tonde Portrett 2 |
SubjectDistanceRange | Unknown |
ToneCurve | 0, 0, 255, 255 |
ToneCurveBlue | 0, 0, 255, 255 |
ToneCurveGreen | 0, 0, 255, 255 |
ToneCurveName | Linear |
ToneCurveName2012 | Linear |
ToneCurvePV2012 | 0, 0, 255, 255 |
ToneCurvePV2012Blue | 0, 0, 255, 255 |
ToneCurvePV2012Green | 0, 0, 255, 255 |
ToneCurvePV2012Red | 0, 0, 255, 255 |
ToneCurveRed | 0, 0, 255, 255 |
ToneMapStrength | 0 |
Version | 9.9 |
Vibrance | 0 |
VignetteAmount | 0 |
WhiteBalance (1) | As Shot |
WhiteBalance | Manual |
Whites2012 | 0 |