Felt | Verdi |
AlreadyApplied | True |
Aperture | 9.5 |
ApertureValue | 9.5 |
Artist | Kjell-Helge Christensen |
BitsPerSample (1) | 8 8 8 |
BitsPerSample | 8 |
BlueHue | 0 |
BlueSaturation | 0 |
Brightness | -4 |
By-line | Kjell-Helge Christensen |
CameraProfile | Embedded |
CFAPattern | [Red,Green][Green,Blue] |
ChromaticAberrationB | 0 |
ChromaticAberrationR | 0 |
CircleOfConfusion | 0.020 mm |
Clarity | +75 |
ColorComponents | 3 |
ColorMode | RGB |
ColorNoiseReduction | 0 |
ColorSpace | Uncalibrated |
ColorTransform | YCbCr |
Contrast (1) | +49 |
Contrast | Normal |
ConvertToGrayscale | False |
Copyright | Kjell-Helge Christensen |
CopyrightNotice | Kjell-Helge Christensen |
CreateDate (1) | 2016:10:03 10:31:47+02:00 |
CreateDate | 2016:10:03 10:31:47 |
Creator | Kjell-Helge Christensen |
CreatorTool | Adobe Photoshop Elements 13.0 (Windows) |
CustomRendered | Normal |
DateCreated (1) | 2016:10:03 |
DateCreated | 2016:10:03 10:31:47.002+02:00 |
DateTimeOriginal | 2016:10:03 10:31:47 |
Defringe | 0 |
DigitalZoomRatio | 1 |
ExifImageHeight | 800 |
ExifImageWidth | 1200 |
Exposure | +0.15 |
ExposureCompensation | -1/2 |
ExposureMode | Auto |
ExposureProgram | Shutter speed priority AE |
ExposureTime | 1/500 |
FillLight | 4 |
Flash | Off, Did not fire |
FNumber | 9.5 |
FocalLength | 200.0 mm |
FocalLength35efl | 200.0 mm (35 mm equivalent: 300.0 mm) |
FocalLengthIn35mmFormat | 300 mm |
Format | image/jpeg |
FOV | 6.9 deg |
GainControl | None |
GreenHue | 0 |
GreenSaturation | 0 |
HasCrop | False |
HasSettings | True |
HighlightRecovery | 57 |
HueAdjustmentAqua | 0 |
HueAdjustmentBlue | 0 |
HueAdjustmentGreen | 0 |
HueAdjustmentMagenta | 0 |
HueAdjustmentOrange | 0 |
HueAdjustmentPurple | 0 |
HueAdjustmentRed | 0 |
HueAdjustmentYellow | 0 |
HyperfocalDistance | 210.20 m |
ICCProfileName | Adobe RGB (1998) |
ImageHeight (1) | 4000 |
ImageHeight | 800 |
ImageNumber | 2076 |
ImageSize | 1200x800 |
ImageWidth (1) | 6000 |
ImageWidth | 1200 |
IncrementalTemperature | +1 |
IncrementalTint | +11 |
ISO | 200 |
Lens | 70.0-200.0 mm f/2.8 |
LensInfo | 70-200mm f/2.8 |
LightSource | Unknown |
LightValue | 14.5 |
LuminanceAdjustmentAqua | 0 |
LuminanceAdjustmentBlue | 0 |
LuminanceAdjustmentGreen | 0 |
LuminanceAdjustmentMagenta | 0 |
LuminanceAdjustmentOrange | 0 |
LuminanceAdjustmentPurple | 0 |
LuminanceAdjustmentRed | 0 |
LuminanceAdjustmentYellow | 0 |
LuminanceSmoothing | 29 |
Make | NIKON CORPORATION |
MaxApertureValue | 2.8 |
Megapixels | 0.960 |
MeteringMode | Multi-segment |
Model | NIKON D7100 |
ModifyDate (1) | 2017:08:12 11:14:42+02:00 |
ModifyDate | 2017:08:12 11:14:42 |
Orientation | Horizontal (normal) |
ParametricDarks | 0 |
ParametricHighlights | 0 |
ParametricHighlightSplit | 75 |
ParametricLights | 0 |
ParametricMidtoneSplit | 50 |
ParametricShadows | 0 |
ParametricShadowSplit | 25 |
PhotometricInterpretation | RGB |
PostCropVignetteAmount | 0 |
ProfileDescription | Adobe RGB (1998) |
Rating | 0 |
RawFileName | _DSC1829.JPG |
RedHue | 0 |
RedSaturation | 0 |
Rights | Kjell-Helge Christensen |
SamplesPerPixel | 3 |
Saturation (1) | -100 |
Saturation | Normal |
SaturationAdjustmentAqua | 0 |
SaturationAdjustmentBlue | 0 |
SaturationAdjustmentGreen | 0 |
SaturationAdjustmentMagenta | 0 |
SaturationAdjustmentOrange | 0 |
SaturationAdjustmentPurple | 0 |
SaturationAdjustmentRed | 0 |
SaturationAdjustmentYellow | 0 |
ScaleFactor35efl | 1.5 |
SceneCaptureType | Standard |
SceneType | Directly photographed |
SensingMethod | One-chip color area |
Shadows | 33 |
ShadowTint | 0 |
SharpenDetail | 33 |
SharpenEdgeMasking | 12 |
SharpenRadius | +1.3 |
Sharpness (1) | 97 |
Sharpness | Normal |
ShutterSpeed | 1/500 |
ShutterSpeedValue | 1/500 |
Software | Adobe Photoshop Elements 13.0 (Windows) |
SplitToningBalance | 0 |
SplitToningHighlightHue | 0 |
SplitToningHighlightSaturation | 0 |
SplitToningShadowHue | 0 |
SplitToningShadowSaturation | 0 |
SubjectDistanceRange | Unknown |
ToneCurve | 0, 0, 255, 255 |
ToneCurveName | Linear |
URL_List | |
Version | 5.0 |
Vibrance | 0 |
VignetteAmount | 0 |
WhiteBalance (1) | Custom |
WhiteBalance | Auto |