Felt | Verdi |
AlreadyApplied | True |
Aperture | 9.0 |
ApertureValue | 9.0 |
Artist | Andreas Hognerud |
AutoLateralCA | 1 |
BitsPerSample | 8 |
Blacks2012 | 0 |
BlueHue | 0 |
BlueSaturation | 0 |
BrightnessValue | -2.61 |
By-line | Andreas Hognerud |
CameraProfile | Adobe Standard |
CircGradBasedCorrActive | true |
CircGradBasedCorrAmount | 1.000000 |
CircGradBasedCorrBrightness | 0.000000 |
CircGradBasedCorrClarity2012 (3) | 0.000000 |
CircGradBasedCorrClarity2012 | 0.125000 |
CircGradBasedCorrContrast2012 | 0.000000 |
CircGradBasedCorrCorrectionRangeMaskDepthMax | 1.000000 |
CircGradBasedCorrCorrectionRangeMaskDepthMin | 0.000000 |
CircGradBasedCorrCorrectionRangeMaskLumMax | 1.000000 |
CircGradBasedCorrCorrectionRangeMaskLumMin | 0.000000 |
CircGradBasedCorrCorrectionRangeMaskType | 0 |
CircGradBasedCorrCorrectionRangeMaskVersion | +2 |
CircGradBasedCorrDefringe | 0.000000 |
CircGradBasedCorrExposure2012 (2) | 0.062500 |
CircGradBasedCorrExposure2012 | 0.000000 |
CircGradBasedCorrHighlights2012 | 0.000000 |
CircGradBasedCorrHue | 240.000000 |
CircGradBasedCorrLocalBlacks2012 | 0.000000 |
CircGradBasedCorrLocalDehaze | 0.000000 |
CircGradBasedCorrLocalWhites2012 (5) | 0.109380 |
CircGradBasedCorrLocalWhites2012 | 0.000000 |
CircGradBasedCorrLuminanceNoise | 0.000000 |
CircGradBasedCorrMaskAngle (1) | -0.117188 |
CircGradBasedCorrMaskAngle (3) | -15.904900 |
CircGradBasedCorrMaskAngle (4) | -11.219100 |
CircGradBasedCorrMaskAngle | 13.617200 |
CircGradBasedCorrMaskBottom (1) | 1.039420 |
CircGradBasedCorrMaskBottom (2) | 1.037130 |
CircGradBasedCorrMaskBottom (3) | 0.859943 |
CircGradBasedCorrMaskBottom (4) | 0.832318 |
CircGradBasedCorrMaskBottom (5) | 0.716744 |
CircGradBasedCorrMaskBottom | 0.671195 |
CircGradBasedCorrMaskFeather | +50 |
CircGradBasedCorrMaskFlipped | true |
CircGradBasedCorrMaskLeft (1) | 0.257568 |
CircGradBasedCorrMaskLeft (2) | 0.470762 |
CircGradBasedCorrMaskLeft (3) | -0.029343 |
CircGradBasedCorrMaskLeft (4) | 0.681255 |
CircGradBasedCorrMaskLeft (5) | 0.721867 |
CircGradBasedCorrMaskLeft | 0.756134 |
CircGradBasedCorrMaskMidpoint | +50 |
CircGradBasedCorrMaskRight (1) | 0.515966 |
CircGradBasedCorrMaskRight (2) | 0.729160 |
CircGradBasedCorrMaskRight (3) | 0.380591 |
CircGradBasedCorrMaskRight (4) | 0.951365 |
CircGradBasedCorrMaskRight (5) | 0.921147 |
CircGradBasedCorrMaskRight | 0.840815 |
CircGradBasedCorrMaskRoundness | 0 |
CircGradBasedCorrMaskTop (1) | 0.764699 |
CircGradBasedCorrMaskTop (2) | 0.762405 |
CircGradBasedCorrMaskTop (3) | 0.748676 |
CircGradBasedCorrMaskTop (4) | 0.778931 |
CircGradBasedCorrMaskTop (5) | 0.500877 |
CircGradBasedCorrMaskTop | 0.530833 |
CircGradBasedCorrMaskValue | 1.000000 |
CircGradBasedCorrMaskVersion | +2 |
CircGradBasedCorrMaskWhat | Mask/CircularGradient |
CircGradBasedCorrMoire | 0.000000 |
CircGradBasedCorrSaturation | 0.000000 |
CircGradBasedCorrShadows2012 (3) | 0.062500 |
CircGradBasedCorrShadows2012 (5) | 0.093750 |
CircGradBasedCorrShadows2012 | 0.109380 |
CircGradBasedCorrSharpness | 0.000000 |
CircGradBasedCorrTemperature | 0.000000 |
CircGradBasedCorrTint | 0.000000 |
CircGradBasedCorrWhat | Correction |
CircleOfConfusion | 0.020 mm |
Clarity2012 | +10 |
ColorComponents | 3 |
ColorNoiseReduction | 25 |
ColorNoiseReductionDetail | 50 |
ColorNoiseReductionSmoothness | 50 |
ColorSpace | Uncalibrated |
ColorTemperature | 5800 |
ColorTransform | YCbCr |
Contrast2012 | +7 |
ConvertToGrayscale | False |
Copyright | Fotograf Andreas Hognerud |
CopyrightNotice | Fotograf Andreas Hognerud |
CreateDate | 2018:06:26 20:41:26 |
Creator | Andreas Hognerud |
CropAngle | -0.117188 |
CropBottom | 0.997102 |
CropConstrainToWarp | 0 |
CropLeft | 0.000693 |
CropRight | 0.946675 |
CropTop | 0.002898 |
CustomRendered | Normal |
DateCreated (1) | 2018:06:26 |
DateCreated | 2018:06:26 20:41:26 |
DateTimeOriginal | 2018:06:26 20:41:26 |
DefringeGreenAmount | 0 |
DefringeGreenHueHi | 60 |
DefringeGreenHueLo | 40 |
DefringePurpleAmount | 0 |
DefringePurpleHueHi | 70 |
DefringePurpleHueLo | 30 |
Dehaze | +2 |
DistortionCorrectionAlreadyApplied | True |
Exposure2012 | 0.00 |
ExposureCompensation | 0 |
ExposureMode | Auto |
ExposureProgram | Aperture-priority AE |
ExposureTime | 5.3 |
Flash | No Flash |
FNumber | 9.0 |
FocalLength | 18.0 mm |
FocalLength35efl | 18.0 mm (35 mm equivalent: 27.0 mm) |
FocalLengthIn35mmFormat | 27 mm |
Format | image/jpeg |
FOV | 67.4 deg |
GradientBasedCorrActive | true |
GradientBasedCorrAmount | 1.000000 |
GradientBasedCorrBrightness | 0.000000 |
GradientBasedCorrClarity2012 | 0.093750 |
GradientBasedCorrContrast2012 (1) | 0.000000 |
GradientBasedCorrContrast2012 | 0.156250 |
GradientBasedCorrCorrectionRangeMaskDepthMax | 1.000000 |
GradientBasedCorrCorrectionRangeMaskDepthMin | 0.000000 |
GradientBasedCorrCorrectionRangeMaskLumFeather | 0.500000 |
GradientBasedCorrCorrectionRangeMaskLumMax | 1.000000 |
GradientBasedCorrCorrectionRangeMaskLumMin | 0.000000 |
GradientBasedCorrCorrectionRangeMaskType | 0 |
GradientBasedCorrCorrectionRangeMaskVersion | +2 |
GradientBasedCorrDefringe | 0.000000 |
GradientBasedCorrExposure2012 (1) | 0.062500 |
GradientBasedCorrExposure2012 | -0.075000 |
GradientBasedCorrHighlights2012 (1) | 0.046880 |
GradientBasedCorrHighlights2012 | -0.093750 |
GradientBasedCorrHue | 240.000000 |
GradientBasedCorrLocalBlacks2012 (1) | 0.031250 |
GradientBasedCorrLocalBlacks2012 | 0.000000 |
GradientBasedCorrLocalDehaze | 0.000000 |
GradientBasedCorrLocalWhites2012 (1) | -0.093750 |
GradientBasedCorrLocalWhites2012 | 0.000000 |
GradientBasedCorrLuminanceNoise (1) | 0.125000 |
GradientBasedCorrLuminanceNoise | 0.000000 |
GradientBasedCorrMaskFullX (1) | 0.577671 |
GradientBasedCorrMaskFullX | 0.493163 |
GradientBasedCorrMaskFullY (1) | 0.589880 |
GradientBasedCorrMaskFullY | 0.252277 |
GradientBasedCorrMaskValue | 1.000000 |
GradientBasedCorrMaskWhat | Mask/Gradient |
GradientBasedCorrMaskZeroX (1) | 0.576339 |
GradientBasedCorrMaskZeroX | 0.509152 |
GradientBasedCorrMaskZeroY (1) | 0.414407 |
GradientBasedCorrMaskZeroY | 0.517735 |
GradientBasedCorrMoire | 0.000000 |
GradientBasedCorrSaturation | 0.000000 |
GradientBasedCorrShadows2012 (1) | 0.218750 |
GradientBasedCorrShadows2012 | -0.125000 |
GradientBasedCorrSharpness (1) | 0.187500 |
GradientBasedCorrSharpness | 0.000000 |
GradientBasedCorrTemperature (1) | 0.062500 |
GradientBasedCorrTemperature | 0.000000 |
GradientBasedCorrTint | 0.000000 |
GradientBasedCorrWhat | Correction |
GrainAmount | 0 |
GreenHue | 0 |
GreenSaturation | 0 |
HasCrop | True |
HasExtendedXMP | 9254103BC3BDEB585FE21F160B28BF53 |
HasSettings | True |
Highlights2012 | 0 |
HueAdjustmentAqua | 0 |
HueAdjustmentBlue | 0 |
HueAdjustmentGreen | 0 |
HueAdjustmentMagenta | 0 |
HueAdjustmentOrange | 0 |
HueAdjustmentPurple | 0 |
HueAdjustmentRed | 0 |
HueAdjustmentYellow | +1 |
HyperfocalDistance | 1.80 m |
ImageHeight | 3989 |
ImageSize | 5668x3989 |
ImageWidth | 5668 |
ISO | 200 |
LateralChromaticAberrationCorrectionAlreadyApplied | True |
Lens | XF18-55mmF2.8-4 R LM OIS |
LensInfo | 18-55mm f/2.8-4 |
LensMake | FUJIFILM |
LensManualDistortionAmount | 0 |
LensModel | XF18-55mmF2.8-4 R LM OIS |
LensProfileChromaticAberrationScale | 100 |
LensProfileDistortionScale | 100 |
LensProfileEnable | 0 |
LensProfileFilename | Fujifilm FinePix X100.lcp |
LensProfileName | Adobe (Fujifilm FinePix X100) |
LensProfileSetup | Custom |
LensProfileVignettingScale | 100 |
LensSerialNumber | 77A16032 |
LightSource | Unknown |
LightValue | 2.9 |
LookAmount | 1.010000 |
LookCluster | Adobe |
LookGroup | Modern |
LookName | Modern 01 |
LookParametersClarity2012 | +10 |
LookParametersConvertToGrayscale | False |
LookParametersLookTable | E1095149FDB39D7A057BAB208837E2E1 |
LookParametersProcessVersion | 11.0 |
LookParametersShadows2012 | +25 |
LookParametersToneCurvePV2012 | 0, 0, 65, 47, 192, 222, 255, 255 |
LookParametersToneCurvePV2012Blue | 0, 0, 255, 255 |
LookParametersToneCurvePV2012Green | 0, 0, 255, 255 |
LookParametersToneCurvePV2012Red | 0, 0, 255, 255 |
LookParametersVersion | 11.1 |
LookSupportsMonochrome | false |
LuminanceAdjustmentAqua | 0 |
LuminanceAdjustmentBlue | -44 |
LuminanceAdjustmentGreen | +18 |
LuminanceAdjustmentMagenta | 0 |
LuminanceAdjustmentOrange | +19 |
LuminanceAdjustmentPurple | 0 |
LuminanceAdjustmentRed | 0 |
LuminanceAdjustmentYellow | +16 |
LuminanceNoiseReductionContrast | 0 |
LuminanceNoiseReductionDetail | 50 |
LuminanceSmoothing | 16 |
Make | FUJIFILM |
MaxApertureValue | 2.8 |
Megapixels | 22.6 |
MeteringMode | Multi-segment |
Model | X-T2 |
ModifyDate (1) | 2019:02:12 21:00:02+01:00 |
ModifyDate | 2019:02:12 21:00:02 |
OverrideLookVignette | False |
PaintCorrectionActive | true |
PaintCorrectionAmount | 1.000000 |
PaintCorrectionBrightness | 0.000000 |
PaintCorrectionClarity2012 (2) | 0.109380 |
PaintCorrectionClarity2012 (3) | 0.000000 |
PaintCorrectionClarity2012 (5) | 0.125000 |
PaintCorrectionClarity2012 | 0.156250 |
PaintCorrectionContrast2012 (3) | 0.203130 |
PaintCorrectionContrast2012 | 0.000000 |
PaintCorrectionCorrectionRangeMaskColorAmount | 0.500000 |
PaintCorrectionCorrectionRangeMaskDepthFeather | 0.500000 |
PaintCorrectionCorrectionRangeMaskDepthMax | 1.000000 |
PaintCorrectionCorrectionRangeMaskDepthMin | 0.000000 |
PaintCorrectionCorrectionRangeMaskLumFeather | 0.500000 |
PaintCorrectionCorrectionRangeMaskLumMax | 1.000000 |
PaintCorrectionCorrectionRangeMaskLumMin | 0.000000 |
PaintCorrectionCorrectionRangeMaskType | 0 |
PaintCorrectionCorrectionRangeMaskVersion | +2 |
PaintCorrectionDefringe | 0.000000 |
PaintCorrectionExposure2012 (1) | -0.075000 |
PaintCorrectionExposure2012 (3) | 0.000000 |
PaintCorrectionExposure2012 | 0.062500 |
PaintCorrectionHighlights2012 (3) | 0.250000 |
PaintCorrectionHighlights2012 (5) | 0.171880 |
PaintCorrectionHighlights2012 | 0.000000 |
PaintCorrectionHue | 240.000000 |
PaintCorrectionLocalBlacks2012 | 0.000000 |
PaintCorrectionLocalDehaze (4) | 0.125000 |
PaintCorrectionLocalDehaze | 0.000000 |
PaintCorrectionLocalWhites2012 (2) | 0.593750 |
PaintCorrectionLocalWhites2012 (4) | 0.203130 |
PaintCorrectionLocalWhites2012 (5) | 0.328130 |
PaintCorrectionLocalWhites2012 | 0.187500 |
PaintCorrectionLuminanceNoise | 0.000000 |
PaintCorrectionMaskCenterWeight | 0.000000 |
PaintCorrectionMaskFlow (24) | 0.414000 |
PaintCorrectionMaskFlow | 0.688000 |
PaintCorrectionMaskRadius (1) | 0.081385 |
PaintCorrectionMaskRadius (15) | 0.020627 |
PaintCorrectionMaskRadius (27) | 0.090017 |
PaintCorrectionMaskRadius (28) | 0.048285 |
PaintCorrectionMaskRadius (38) | 0.017799 |
PaintCorrectionMaskRadius (4) | 0.072896 |
PaintCorrectionMaskRadius (42) | 0.009840 |
PaintCorrectionMaskRadius (44) | 0.003804 |
PaintCorrectionMaskRadius (46) | 0.007360 |
PaintCorrectionMaskRadius (49) | 0.024957 |
PaintCorrectionMaskRadius (53) | 0.021851 |
PaintCorrectionMaskRadius (56) | 0.024779 |
PaintCorrectionMaskRadius (59) | 0.013586 |
PaintCorrectionMaskRadius (61) | 0.042506 |
PaintCorrectionMaskRadius (63) | 0.008506 |
PaintCorrectionMaskRadius (65) | 0.011003 |
PaintCorrectionMaskRadius (66) | 0.029331 |
PaintCorrectionMaskRadius (67) | 0.020420 |
PaintCorrectionMaskRadius (68) | 0.004922 |
PaintCorrectionMaskRadius (7) | 0.011112 |
PaintCorrectionMaskRadius (70) | 0.012283 |
PaintCorrectionMaskRadius | 0.071627 |
PaintCorrectionMaskValue (52) | 0.691000 |
PaintCorrectionMaskValue | 0.600000 |
PaintCorrectionMaskWhat | Mask/Paint |
PaintCorrectionMoire | 0.000000 |
PaintCorrectionSaturation (11) | 0.093750 |
PaintCorrectionSaturation | 0.000000 |
PaintCorrectionShadows2012 (1) | -0.406250 |
PaintCorrectionShadows2012 (2) | 0.109380 |
PaintCorrectionShadows2012 (3) | -0.171870 |
PaintCorrectionShadows2012 (4) | 0.187500 |
PaintCorrectionShadows2012 | 0.156250 |
PaintCorrectionSharpness (4) | 0.000000 |
PaintCorrectionSharpness | 0.171880 |
PaintCorrectionTemperature (4) | 0.000000 |
PaintCorrectionTemperature | 0.125000 |
PaintCorrectionTint | 0.000000 |
PaintCorrectionWhat | Correction |
ParametricDarks | 0 |
ParametricHighlights | 0 |
ParametricHighlightSplit | 75 |
ParametricLights | 0 |
ParametricMidtoneSplit | 50 |
ParametricShadows | 0 |
ParametricShadowSplit | 25 |
PerspectiveAspect | 0 |
PerspectiveHorizontal | 0 |
PerspectiveRotate | 0.0 |
PerspectiveScale | 100 |
PerspectiveUpright | 0 |
PerspectiveVertical | 0 |
PerspectiveX | 0.00 |
PerspectiveY | 0.00 |
PostCropVignetteAmount | 0 |
ProcessVersion | 10.0 |
ProfileDescription | Adobe RGB (1998) |
Rating | 3 |
RawFileName | _DSF2704.RAF |
RedHue | 0 |
RedSaturation | 0 |
Rights | Fotograf Andreas Hognerud |
Saturation | 0 |
SaturationAdjustmentAqua | -22 |
SaturationAdjustmentBlue | +19 |
SaturationAdjustmentGreen | +21 |
SaturationAdjustmentMagenta | 0 |
SaturationAdjustmentOrange | +19 |
SaturationAdjustmentPurple | +42 |
SaturationAdjustmentRed | 0 |
SaturationAdjustmentYellow | +18 |
ScaleFactor35efl | 1.5 |
SceneCaptureType | Standard |
SceneType | Directly photographed |
SensingMethod | One-chip color area |
SensitivityType | Standard Output Sensitivity |
SerialNumber | 63M58543 |
Shadows2012 | +22 |
ShadowTint | 0 |
SharpenDetail | 25 |
SharpenEdgeMasking | 20 |
SharpenRadius | +1.4 |
Sharpness (1) | 40 |
Sharpness | Normal |
ShutterSpeed | 5.3 |
ShutterSpeedValue | 5.3 |
SplitToningBalance | +22 |
SplitToningHighlightHue | 52 |
SplitToningHighlightSaturation | 8 |
SplitToningShadowHue | 0 |
SplitToningShadowSaturation | 0 |
SubjectDistanceRange | Unknown |
Tint | +10 |
ToneCurve | 0, 0, 255, 255 |
ToneCurveBlue | 0, 0, 255, 255 |
ToneCurveGreen | 0, 0, 255, 255 |
ToneCurveName | Linear |
ToneCurveName2012 | Linear |
ToneCurvePV2012 | 0, 0, 255, 255 |
ToneCurvePV2012Blue | 0, 0, 255, 255 |
ToneCurvePV2012Green | 0, 0, 255, 255 |
ToneCurvePV2012Red | 0, 0, 255, 255 |
ToneCurveRed | 0, 0, 255, 255 |
ToneMapStrength | 0 |
Version | 11.1 |
Vibrance | +14 |
VignetteAmount | 0 |
VignetteCorrectionAlreadyApplied | True |
WhiteBalance (1) | As Shot |
WhiteBalance | Auto |
Whites2012 | 0 |