Felt | Verdi |
AlreadyApplied | True |
Aperture | 2.8 |
ApertureValue | 2.8 |
AutoLateralCA | 0 |
BitsPerSample | 8 |
Blacks2012 | -13 |
BlueHue | 0 |
BlueSaturation | 0 |
BrightnessValue | 11.68551111 |
CameraProfile | Embedded |
CircleOfConfusion | 0.004 mm |
Clarity2012 | +20 |
ColorComponents | 3 |
ColorGradeBlending | 50 |
ColorGradeGlobalHue | 0 |
ColorGradeGlobalLum | 0 |
ColorGradeGlobalSat | 0 |
ColorGradeHighlightLum | 0 |
ColorGradeMidtoneHue | 0 |
ColorGradeMidtoneLum | 0 |
ColorGradeMidtoneSat | 0 |
ColorGradeShadowLum | 0 |
ColorNoiseReduction | 0 |
ColorSpace | sRGB |
ColorTransform | YCbCr |
Contrast2012 | +23 |
ConvertToGrayscale | True |
Copyright | © Bjørn Inge Solvang |
CopyrightNotice | © Bjørn Inge Solvang |
CreateDate (1) | 2024:04:22 12:54:02.803+02:00 |
CreateDate | 2024:04:22 12:54:02 |
CreatorTool | 17.4.1 |
CropAngle | 0 |
CropBottom | 0.891269 |
CropConstrainToWarp | 0 |
CropLeft | 0 |
CropRight | 0.924766 |
CropTop | 0.158314 |
DateCreated (1) | 2024:04:22 12:54:02.803+02:00 |
DateCreated | 2024:04:22 |
DateTimeOriginal | 2024:04:22 12:54:02 |
Dehaze | +12 |
Exposure2012 | +0.22 |
ExposureCompensation | 0 |
ExposureMode | Auto |
ExposureProgram | Program AE |
ExposureTime | 1/2800 |
Flash | Off, Did not fire |
FNumber | 2.8 |
FocalLength | 9.0 mm |
FocalLength35efl | 9.0 mm (35 mm equivalent: 77.0 mm) |
FocalLengthIn35mmFormat | 77 mm |
Format | image/jpeg |
FOV | 26.3 deg |
GrainAmount | 0 |
GrayMixerAqua | +4 |
GrayMixerBlue | -16 |
GrayMixerGreen | -27 |
GrayMixerMagenta | -9 |
GrayMixerOrange | -19 |
GrayMixerPurple | -17 |
GrayMixerRed | -10 |
GrayMixerYellow | 0 |
GreenHue | 0 |
GreenSaturation | 0 |
HasCrop | True |
HasSettings | True |
HDREditMode | 0 |
Highlights2012 | -12 |
HyperfocalDistance | 8.24 m |
ImageHeight | 3729 |
ImageSize | 2217x3729 |
ImageWidth | 2217 |
IncrementalTemperature | 0 |
IncrementalTint | 0 |
ISO | 20 |
Lens | iPhone 13 Pro Max back triple camera 9mm f/2.8 |
LensInfo (1) | 1.57000005246397-9mm f/1.5-2.8 |
LensInfo | 1.570000052-9mm f/1.5-2.8 |
LensMake | Apple |
LensManualDistortionAmount | 0 |
LensModel | iPhone 13 Pro Max back triple camera 9mm f/2.8 |
LensProfileEnable | 0 |
LightValue | 16.7 |
LuminanceSmoothing | 0 |
Make | Apple |
Megapixels | 8.3 |
MeteringMode | Spot |
Model | iPhone 13 Pro Max |
ModifyDate (1) | 2024:04:22 16:57:16+02:00 |
ModifyDate | 2024:04:22 16:57:16 |
OverrideLookVignette | False |
ParametricDarks | 0 |
ParametricHighlights | 0 |
ParametricHighlightSplit | 75 |
ParametricLights | 0 |
ParametricMidtoneSplit | 50 |
ParametricShadows | 0 |
ParametricShadowSplit | 25 |
PerspectiveAspect | 0 |
PerspectiveHorizontal | 0 |
PerspectiveRotate | 0.0 |
PerspectiveScale | 100 |
PerspectiveUpright | 0 |
PerspectiveVertical | 0 |
PerspectiveX | 0.00 |
PerspectiveY | 0.00 |
PointColors | -1.000000, -1.000000, -1.000000, -1.000000, -1.000000, -1.000000, -1.000000, -1.000000, -1.000000, -1.000000, -1.000000, -1.000000, -1.000000, -1.000000, -1.000000, -1.000000, -1.000000, -1.000000, -1.000000 |
PostCropVignetteAmount | 0 |
PostCropVignetteFeather | 64 |
ProcessVersion | 15.4 |
ProfileDescription | sRGB IEC61966-2.1 |
RedHue | 0 |
RedSaturation | 0 |
Rights | © Bjørn Inge Solvang |
Rights-en-US | © Bjørn Inge Solvang |
ScaleFactor35efl | 8.6 |
SceneType | Directly photographed |
SensingMethod | One-chip color area |
Shadows2012 | +11 |
ShadowTint | 0 |
Sharpness | 0 |
ShutterSpeed | 1/2800 |
ShutterSpeedValue | 1/2800 |
Software | 17.4.1 |
SplitToningBalance | 0 |
SplitToningHighlightHue | 0 |
SplitToningHighlightSaturation | 0 |
SplitToningShadowHue | 0 |
SplitToningShadowSaturation | 0 |
SubjectArea | 2770 1189 743 740 |
Texture | +16 |
ToneCurveName2012 | Linear |
ToneCurvePV2012 | 0, 0, 255, 255 |
ToneCurvePV2012Blue | 0, 0, 255, 255 |
ToneCurvePV2012Green | 0, 0, 255, 255 |
ToneCurvePV2012Red | 0, 0, 255, 255 |
Version | 16.2 |
VignetteAmount | 0 |
WhiteBalance (1) | As Shot |
WhiteBalance | Auto |
Whites2012 | +42 |