Felt | Verdi |
AlreadyApplied | True |
Aperture | 6.3 |
ApertureValue | 6.3 |
Artist | Cato Rusten |
BitsPerSample | 8 |
BlueHue | 0 |
BlueSaturation | 0 |
Brightness | +7 |
By-line | Cato Rusten |
CameraProfile | ACR 2.4 |
ChromaticAberrationB | 0 |
ChromaticAberrationR | 0 |
CircleOfConfusion | 0.019 mm |
Clarity | 0 |
ColorComponents | 1 |
ColorMode | RGB |
ColorSpace | sRGB |
ColorTemperature | 6600 |
Contrast | 0 |
ConvertToGrayscale | True |
Copyright | © 2007 by Cato Rusten |
CopyrightFlag | False |
CopyrightNotice | © 2007 by Cato Rusten |
CreateDate (1) | 2007:08:05 00:12:58+01:00 |
CreateDate | 2007:07:27 08:31:58 |
Creator | Cato Rusten |
CreatorCountry | Norway |
CreatorTool | Adobe Photoshop CS3 Windows |
CreatorWorkEmail | Limaz.kriga@gmail.com |
CreatorWorkURL | http://Limaz.foto.no/ |
CropAngle | 0 |
CropBottom | 0.811052 |
CropHeight | 1895 |
CropLeft | 0 |
CropRight | 0.811052 |
CropTop | 0 |
CropUnit | pixels |
CropWidth | 2842 |
CustomRendered | Normal |
DateTimeDigitized | 2007:07:27 08:31:58+01:00 |
DateTimeOriginal (1) | 2007:07:27 08:31:58+01:00 |
DateTimeOriginal | 2007:07:27 08:31:58 |
Defringe | 0 |
DerivedFrom | |
ExifImageHeight | 700 |
ExifImageWidth | 467 |
Exposure | 0.00 |
ExposureCompensation | 0 |
ExposureMode | Auto |
ExposureProgram | Aperture-priority AE |
ExposureTime | 1/40 |
FillLight | 0 |
Firmware | 2.0.3 |
Flash | Off, Did not fire |
FlashCompensation | 0 |
FlashFired | False |
FlashFunction | False |
FlashMode | Off |
FlashRedEyeMode | False |
FlashReturn | No return detection |
FNumber | 6.3 |
FocalLength | 17.0 mm |
FocalLength35efl | 17.0 mm (35 mm equivalent: 27.2 mm) |
Format | image/jpeg |
FOV | 66.9 deg |
GrayMixerAqua | -8 |
GrayMixerBlue | +9 |
GrayMixerGreen | -35 |
GrayMixerMagenta | +100 |
GrayMixerOrange | 0 |
GrayMixerPurple | -20 |
GrayMixerRed | -23 |
GrayMixerYellow | -9 |
GreenHue | 0 |
GreenSaturation | 0 |
HasCrop | True |
HasSettings | True |
HierarchicalSubject | Natur|Landscapes|Fjord, Steder|Norge|Vestlandet, Steder|Norge|Vestlandet|Nærøyfjorden, Steder|Norge|Vestlandet|Sognefjorden, Travel|Båt |
HighlightRecovery | 54 |
HyperfocalDistance | 2.45 m |
ICCProfileName | sRGB IEC61966-2.1 |
ImageHeight (1) | 2842 |
ImageHeight | 700 |
ImageNumber | 66 |
ImageSize | 467x700 |
ImageWidth (1) | 1895 |
ImageWidth | 467 |
ISO | 100 |
Keywords | Båt, Fjord, Landscapes, Natur, Norge, Nærøyfjorden, Sognefjorden, Steder, Travel, Vestlandet |
Lens | 17.0-40.0 mm |
LensInfo | 17-40mm f/? |
LightValue | 10.6 |
LuminanceSmoothing | 0 |
Make | Canon |
Megapixels | 0.327 |
MeteringMode | Multi-segment |
Model | Canon EOS 20D |
ModifyDate (1) | 2007:08:05 00:12:58+01:00 |
ModifyDate | 2007:08:05 00:12:58 |
Orientation | Horizontal (normal) |
OwnerName | unknown |
ParametricDarks | 0 |
ParametricHighlights | 0 |
ParametricHighlightSplit | 75 |
ParametricLights | 0 |
ParametricMidtoneSplit | 50 |
ParametricShadows | 0 |
ParametricShadowSplit | 25 |
ProfileDescription | sRGB IEC61966-2.1 |
Rating | 4 |
RedHue | 0 |
RedSaturation | 0 |
Rights | © 2007 by Cato Rusten |
ScaleFactor35efl | 1.6 |
SceneCaptureType | Standard |
SerialNumber | 520310510 |
Shadows | 5 |
ShadowTint | 0 |
SharpenDetail | 25 |
SharpenEdgeMasking | 0 |
SharpenRadius | +1.0 |
Sharpness | 25 |
ShutterSpeed | 1/40 |
ShutterSpeedValue | 1/40 |
Software | Adobe Photoshop CS3 Windows |
SplitToningBalance | 0 |
SplitToningHighlightHue | 0 |
SplitToningHighlightSaturation | 0 |
SplitToningShadowHue | 0 |
SplitToningShadowSaturation | 0 |
Subject | Båt, Fjord, Landscapes, Natur, Norge, Nærøyfjorden, Sognefjorden, Steder, Travel, Vestlandet |
TimeZoneOffset | 1 1 |
Tint | +25 |
ToneCurve | 0, 0, 32, 22, 64, 56, 128, 128, 192, 196, 255, 255 |
ToneCurveName | Medium Contrast |
URL_List | |
UsageTerms | ALL RIGHTS RESERVED |
Version | 1.0 |
VignetteAmount | 0 |
WhiteBalance | Auto |