Felt | Verdi |
ALL RIGHTS RESREVED |
AlreadyApplied | True |
Aperture | 6.3 |
ApertureValue | 6.3 |
Artist | unknown |
AuthorsPosition | Photographer |
BitsPerSample | 8 |
BlueHue | 0 |
BlueSaturation | 0 |
Brightness | +50 |
By-line | unknown |
By-lineTitle | Photographer |
CameraProfile | ACR 4.4 |
ChromaticAberrationB | 0 |
ChromaticAberrationR | 0 |
CircleOfConfusion | 0.019 mm |
Clarity | 0 |
ColorComponents | 1 |
ColorMode | RGB |
ColorNoiseReduction | 25 |
ColorSpace (1) | Unknown (-1) |
ColorSpace | Uncalibrated |
ColorTemperature | 6400 |
Contrast | +11 |
ConvertToGrayscale | False |
Copyright | © by Cato Rusten
CopyrightFlag | True |
CopyrightNotice | © by Cato Rusten
CreateDate (1) | 2008:06:13 19:14:28+01:00 |
CreateDate | 2008:06:02 18:44:55 |
Creator | unknown, Copyrighted by Cato Rusten |
CreatorAddress | Myrveien 41b |
CreatorCity | Ski |
CreatorCountry | Norway |
CreatorPostalCode | 1406 |
CreatorRegion | Akershus |
CreatorTool | Adobe Photoshop CS3 Windows |
CreatorWorkEmail | Leksekrem@gmail.com |
CreatorWorkURL | http://Limaz.foto.no/ |
CustomRendered | Normal |
DateTimeDigitized | 2008:06:02 18:44:55+01:00 |
DateTimeOriginal (1) | 2008:06:02 18:44:55+01:00 |
DateTimeOriginal | 2008:06:02 18:44:55 |
Defringe | 0 |
DerivedFrom | |
ExifImageHeight | 760 |
ExifImageWidth | 760 |
Exposure | -0.40 |
ExposureCompensation | 0 |
ExposureMode | Auto |
ExposureProgram | Aperture-priority AE |
ExposureTime | 1/320 |
FillLight | 30 |
Firmware | 2.0.3 |
Flash | Off, Did not fire |
FlashCompensation | -0.666666666666667 |
FlashFired | False |
FlashFunction | False |
FlashMode | Off |
FlashRedEyeMode | False |
FlashReturn | No return detection |
FNumber | 6.3 |
FocalLength | 24.0 mm |
FocalLength35efl | 24.0 mm (35 mm equivalent: 38.4 mm) |
Format | image/jpeg |
FOV | 50.2 deg |
GreenHue | 0 |
GreenSaturation | 0 |
HasCrop | False |
HasSettings | True |
HighlightRecovery | 0 |
HueAdjustmentAqua | 0 |
HueAdjustmentBlue | 0 |
HueAdjustmentGreen | 0 |
HueAdjustmentMagenta | 0 |
HueAdjustmentOrange | 0 |
HueAdjustmentPurple | 0 |
HueAdjustmentRed | 0 |
HueAdjustmentYellow | 0 |
HyperfocalDistance | 4.87 m |
ICCProfileName | ProPhoto RGB |
ImageHeight | 760 |
ImageNumber | 192 |
ImageSize | 760x760 |
ImageWidth | 760 |
ISO | 100 |
Lens | 24.0 mm |
LensInfo | 24mm f/? |
LightValue | 13.6 |
LuminanceAdjustmentAqua | 0 |
LuminanceAdjustmentBlue | 0 |
LuminanceAdjustmentGreen | 0 |
LuminanceAdjustmentMagenta | -17 |
LuminanceAdjustmentOrange | +17 |
LuminanceAdjustmentPurple | +17 |
LuminanceAdjustmentRed | -27 |
LuminanceAdjustmentYellow | +7 |
LuminanceSmoothing | 33 |
Make | Canon |
Marked | True |
MaxApertureValue | 1.4 |
Megapixels | 0.578 |
MeteringMode | Multi-segment |
Model | Canon EOS 20D |
ModifyDate (1) | 2008:06:19 01:05:29+01:00 |
ModifyDate | 2008:06:19 01:05:29 |
Orientation | Horizontal (normal) |
OwnerName | unknown |
ParametricDarks | -10 |
ParametricHighlights | 0 |
ParametricHighlightSplit | 75 |
ParametricLights | +10 |
ParametricMidtoneSplit | 50 |
ParametricShadows | 0 |
ParametricShadowSplit | 25 |
ProfileDescription | ProPhoto RGB |
Rating | 0 |
RawFileName | Pont_sante_angelo06.CR2 |
RedHue | 0 |
RedSaturation | 0 |
Rights | © by Cato Rusten
Saturation | 0 |
SaturationAdjustmentAqua | 0 |
SaturationAdjustmentBlue | 0 |
SaturationAdjustmentGreen | 0 |
SaturationAdjustmentMagenta | +12 |
SaturationAdjustmentOrange | +3 |
SaturationAdjustmentPurple | +8 |
SaturationAdjustmentRed | +8 |
SaturationAdjustmentYellow | -13 |
ScaleFactor35efl | 1.6 |
SceneCaptureType | Standard |
SerialNumber | 520310510 |
Shadows | 0 |
ShadowTint | 0 |
SharpenDetail | 8 |
SharpenEdgeMasking | 45 |
SharpenRadius | +0.7 |
Sharpness | 44 |
ShutterSpeed | 1/320 |
ShutterSpeedValue | 1/320 |
SidecarForExtension | CR2 |
Software | Adobe Photoshop CS3 Windows |
SplitToningBalance | 0 |
SplitToningHighlightHue | 0 |
SplitToningHighlightSaturation | 0 |
SplitToningShadowHue | 0 |
SplitToningShadowSaturation | 0 |
Tint | 0 |
ToneCurve | 0, 0, 32, 22, 64, 56, 128, 128, 192, 196, 255, 255 |
ToneCurveName | Medium Contrast |
URL_List | |
Version | 4.4.1 |
Vibrance | 0 |
VignetteAmount | 0 |
WhiteBalance | Auto |