Felt | Verdi |
AlreadyApplied | True |
Aperture | 13.0 |
ApertureValue | 13.0 |
BitsPerSample | 8 |
BlueHue | 0 |
BlueSaturation | 0 |
Brightness | +50 |
CameraProfile | Adobe Standard |
CFAPattern | [Green,Blue][Red,Green] |
ChromaticAberrationB | 0 |
ChromaticAberrationR | 0 |
CircleOfConfusion | 0.020 mm |
Clarity | 0 |
ColorComponents | 1 |
ColorNoiseReduction | 25 |
ColorNoiseReductionDetail | 50 |
ColorTemperature | 5100 |
Contrast (2) | 0 |
Contrast | Normal |
ConvertToGrayscale | True |
CreateDate (1) | 2010:01:29 10:18:56.00+01:00 |
CreateDate | 2010:01:29 10:18:56 |
CreatorTool | Adobe Photoshop Lightroom |
CropAngle | 0 |
CropBottom | 0.962877 |
CropHeight | 497 |
CropLeft | 0 |
CropRight | 0.910632 |
CropTop | 0.111369 |
CropUnit | pixels |
CropWidth | 800 |
CustomRendered | Normal |
DateTimeDigitized | 2010:01:29 10:18:56.00+01:00 |
DateTimeOriginal (1) | 2010:01:29 10:18:56.00+01:00 |
DateTimeOriginal | 2010:01:29 10:18:56 |
Defringe | 0 |
DigitalZoomRatio | 1 |
DOF | inf (9.60 m - inf) |
ExifImageHeight | 497 |
ExifImageWidth | 800 |
Exposure | 0.00 |
ExposureCompensation | 0 |
ExposureMode | Manual |
ExposureProgram | Manual |
ExposureTime | 1/250 |
FillLight | 0 |
Flash | No Flash |
FlashFired | False |
FlashFunction | False |
FlashMode | Unknown |
FlashRedEyeMode | False |
FlashReturn | No return detection |
FNumber | 13.0 |
FocalLength | 50.0 mm |
FocalLength35efl | 50.0 mm (35 mm equivalent: 75.0 mm) |
FocalLengthIn35mmFormat | 75 mm |
FOV | 27.0 deg |
GainControl | None |
GrainAmount | 0 |
GrayMixerAqua | +45 |
GrayMixerBlue | -63 |
GrayMixerGreen | -26 |
GrayMixerMagenta | -29 |
GrayMixerOrange | +38 |
GrayMixerPurple | -43 |
GrayMixerRed | +22 |
GrayMixerYellow | +56 |
GreenHue | 0 |
GreenSaturation | 0 |
HasCrop | True |
HasSettings | True |
HighlightRecovery | 0 |
HyperfocalDistance | 9.60 m |
ImageHeight | 497 |
ImageNumber | 3528 |
ImageSize | 800x497 |
ImageWidth | 800 |
ISO | 100 |
Lens | 18.0-105.0 mm f/3.5-5.6 |
LensID (1) | 158 |
LensID | AF-S DX VR Zoom-Nikkor 18-105mm f/3.5-5.6G ED |
LensInfo | 18-105mm f/3.5-5.6 |
LightSource | Unknown |
LightValue | 15.4 |
Make | NIKON CORPORATION |
MaxApertureValue | 4.9 |
Megapixels | 0.398 |
MeteringMode | Multi-segment |
Model | NIKON D90 |
ModifyDate (1) | 2010:01:30 11:41:46+01:00 |
ModifyDate | 2010:01:30 11:41:46 |
NoiseReductionContrast | 0 |
ParametricDarks | -14 |
ParametricHighlights | +36 |
ParametricHighlightSplit | 75 |
ParametricLights | +13 |
ParametricMidtoneSplit | 50 |
ParametricShadows | +6 |
ParametricShadowSplit | 25 |
PostCropVignetteAmount | 0 |
ProfileDescription | sRGB IEC61966-2.1 |
RatingPercent | 0 |
RedHue | 0 |
RedSaturation | 0 |
RenderVersion | 5.7 |
Saturation | Normal |
ScaleFactor35efl | 1.5 |
SceneCaptureType | Standard |
SceneType | Directly photographed |
SensingMethod | One-chip color area |
SerialNumber | 6281548 |
Shadows | 0 |
ShadowTint | 0 |
SharpenDetail | 25 |
SharpenEdgeMasking | 0 |
SharpenRadius | +1.0 |
Sharpness (2) | 25 |
Sharpness | Normal |
ShutterSpeed | 1/250 |
ShutterSpeedValue | 1/250 |
Software | Nikon Transfer 1.5 W |
SplitToningBalance | 0 |
SplitToningHighlightHue | 0 |
SplitToningHighlightSaturation | 0 |
SplitToningShadowHue | 0 |
SplitToningShadowSaturation | 0 |
SubjectDistance | 4294967295 m |
SubjectDistanceRange | Unknown |
Tint | +1 |
ToneCurve | 0, 0, 32, 22, 64, 56, 128, 128, 192, 196, 255, 255 |
ToneCurveName | Medium Contrast |
Version | 6.0 |
VignetteAmount | 0 |
WhiteBalance (2) | As Shot |
WhiteBalance | Auto |