Felt | Verdi |
AlreadyApplied | True |
Aperture | 8.0 |
ApertureValue | 8.0 |
Artist | Geir A Granviken |
BitsPerSample | 8 |
BlueHue | 0 |
BlueSaturation | 0 |
Brightness | +6 |
By-line | Geir A Granviken |
CameraProfile | Adobe Standard |
Caption-Abstract | Vulkanutbrudd Eyjafjallajøkull, Island 20 apr 2010 |
CaptionWriter | " |
ChromaticAberrationB | 0 |
ChromaticAberrationR | 0 |
CircleOfConfusion | 0.019 mm |
Clarity | +75 |
ColorComponents | 3 |
ColorNoiseReduction | 25 |
ColorSpace | Uncalibrated |
ColorTemperature | 6000 |
Contrast | +24 |
ConvertToGrayscale | False |
Copyright | © 2010 Geir A Granviken |
CopyrightNotice | © 2010 Geir A Granviken |
Country | Iceland |
Country-PrimaryLocationCode | ISL |
Country-PrimaryLocationName | Iceland |
CountryCode | ISL |
CreateDate (1) | 2010:04:20 14:01:46.28+02:00 |
CreateDate | 2010:04:20 13:01:46 |
Creator | Geir A Granviken |
CreatorTool | Adobe Photoshop Lightroom |
CropAngle | 1 |
CropBottom | 1 |
CropHeight | 565 |
CropLeft | 0.071921 |
CropRight | 0.9892 |
CropTop | 0.047622 |
CropUnit | pixels |
CropWidth | 848 |
CustomRendered | Normal |
DateTimeDigitized | 2010:04:20 13:01:46.28+1:00 |
DateTimeOriginal (1) | 2010:04:20 13:01:46.28+1:00 |
DateTimeOriginal | 2010:04:20 13:01:46 |
Defringe | 0 |
Description | Vulkanutbrudd Eyjafjallajøkull, Island 20 apr 2010 |
DOF | inf (2.05 m - inf) |
ExifImageHeight | 565 |
ExifImageWidth | 848 |
Exposure | 0.00 |
ExposureCompensation | +1 |
ExposureMode | Auto |
ExposureProgram | Aperture-priority AE |
ExposureTime | 1/500 |
FillLight | 0 |
Firmware | 1.1.0 |
Flash | Off, Did not fire |
FlashCompensation | 0 |
FlashFired | False |
FlashFunction | False |
FlashMode | Off |
FlashRedEyeMode | False |
FlashReturn | No return detection |
FNumber | 8.0 |
FocalLength | 24.0 mm |
FocalLength35efl | 24.0 mm (35 mm equivalent: 37.7 mm) |
FOV | 51.1 deg |
GPSDateStamp | 2010:04:20 |
GPSDateTime (1) | 2010:04:20 13:01:46+1:00 |
GPSDateTime | 2010:04:20 13:01:46Z |
GPSLatitude (2) | 63 deg 37' 41.89" |
GPSLatitude | 63 deg 37' 41.89" N |
GPSLatitudeRef | North |
GPSLongitude (2) | 19 deg 36' 19.27" |
GPSLongitude | 19 deg 36' 19.27" W |
GPSLongitudeRef | West |
GPSMapDatum | WGS-84 |
GPSPosition | 63 deg 37' 41.89" N, 19 deg 36' 19.27" W |
GPSTimeStamp | 13:01:46 |
GPSVersionID | 2.2.0.0 |
GreenHue | 0 |
GreenSaturation | 0 |
HasCrop | True |
HasSettings | True |
Headline | |
HighlightRecovery | 0 |
HueAdjustmentAqua | 0 |
HueAdjustmentBlue | 0 |
HueAdjustmentGreen | 0 |
HueAdjustmentMagenta | 0 |
HueAdjustmentOrange | 0 |
HueAdjustmentPurple | 0 |
HueAdjustmentRed | 0 |
HueAdjustmentYellow | 0 |
HyperfocalDistance | 3.76 m |
ImageDescription | Vulkanutbrudd Eyjafjallajøkull, Island 20 apr 2010 |
ImageHeight | 565 |
ImageNumber | 0 |
ImageSize | 848x565 |
ImageWidth | 848 |
Instructions | |
ISO | 200 |
Keywords | vulkan, island |
Lens | EF24-105mm f/4L IS USM |
LensID (1) | 237 |
LensID | Canon EF 24-105mm f/4L IS USM |
LensInfo | 24-105mm f/? |
LightValue | 14.0 |
Location | Eyjafjallajøkull |
LuminanceAdjustmentAqua | 0 |
LuminanceAdjustmentBlue | 0 |
LuminanceAdjustmentGreen | 0 |
LuminanceAdjustmentMagenta | 0 |
LuminanceAdjustmentOrange | 0 |
LuminanceAdjustmentPurple | 0 |
LuminanceAdjustmentRed | 0 |
LuminanceAdjustmentYellow | 0 |
LuminanceSmoothing | 0 |
Make | Canon |
MaxApertureValue | 4.0 |
Megapixels | 0.479 |
MeteringMode | Multi-segment |
Model | Canon EOS 7D |
ModifyDate (1) | 2010:04:21 23:48:45.0+1:00 |
ModifyDate | 2010:04:21 23:48:45 |
ObjectName | |
OwnerName | Geir A Granviken |
ParametricDarks | -15 |
ParametricHighlights | +29 |
ParametricHighlightSplit | 75 |
ParametricLights | -19 |
ParametricMidtoneSplit | 50 |
ParametricShadows | 0 |
ParametricShadowSplit | 25 |
PostCropVignetteAmount | 0 |
ProfileDescription | sRGB IEC61966-2.1 |
RedHue | 0 |
RedSaturation | 0 |
Rights | © 2010 Geir A Granviken |
Saturation | 0 |
SaturationAdjustmentAqua | 0 |
SaturationAdjustmentBlue | 0 |
SaturationAdjustmentGreen | 0 |
SaturationAdjustmentMagenta | 0 |
SaturationAdjustmentOrange | 0 |
SaturationAdjustmentPurple | 0 |
SaturationAdjustmentRed | 0 |
SaturationAdjustmentYellow | 0 |
ScaleFactor35efl | 1.6 |
SceneCaptureType | Standard |
SerialNumber | 330426024 |
Shadows | 4 |
ShadowTint | 0 |
SharpenDetail | 25 |
SharpenEdgeMasking | 0 |
SharpenRadius | +1.0 |
Sharpness | 25 |
ShutterSpeed | 1/500 |
ShutterSpeedValue | 1/500 |
Software | Adobe Photoshop Lightroom |
SpecialInstructions | |
SplitToningBalance | 0 |
SplitToningHighlightHue | 0 |
SplitToningHighlightSaturation | 0 |
SplitToningShadowHue | 0 |
SplitToningShadowSaturation | 0 |
Sub-location | Eyjafjallajøkull |
Subject | vulkan, island |
SubjectDistance | 4.47 m |
Tint | +29 |
Title | |
ToneCurve | 0, 0, 32, 22, 64, 56, 128, 128, 192, 196, 255, 255 |
ToneCurveName | Medium Contrast |
UserComment | |
Version | 5.6 |
Vibrance | +25 |
VignetteAmount | 0 |
WhiteBalance (2) | As Shot |
WhiteBalance | Auto |
Writer-Editor | " |