Felt | Verdi |
AlreadyApplied | True |
Aperture | 10.0 |
ApertureValue | 10.0 |
BitsPerSample | 8 |
BlueHue | 0 |
BlueSaturation | 0 |
Brightness | 0 |
CameraProfile | Embedded |
CFAPattern | [Blue,Green][Green,Red] |
ChromaticAberrationB | 0 |
ChromaticAberrationR | 0 |
CircleOfConfusion | 0.020 mm |
Clarity | +45 |
ColorComponents | 3 |
ColorNoiseReduction | 49 |
Contrast (2) | 0 |
Contrast | Normal |
ConvertToGrayscale | False |
CreateDate (1) | 2009:08:04 13:13:34.50+02:00 |
CreateDate | 2009:08:04 13:13:34 |
CreatorTool | Adobe Photoshop Lightroom |
Creatortool | Microsoft Windows Photo Gallery 6.0.6001.18000 |
CropAngle | 0 |
CropBottom | 0.974543 |
CropHeight | 2931 |
CropLeft | 0.048951 |
CropRight | 1 |
CropTop | 0 |
CropUnit | pixels |
CropWidth | 1902 |
CustomRendered | Normal |
DateAcquired | 2009:08:21 12:48:05Z |
DateTimeDigitized | 2009:08:04 13:13:34.50+02:00 |
DateTimeOriginal (1) | 2009:08:04 13:13:34.50+02:00 |
DateTimeOriginal | 2009:08:04 13:13:34 |
Defringe | 0 |
DigitalZoomRatio | 1 |
ExifImageHeight | 2931 |
ExifImageWidth | 1902 |
Exposure | 0.00 |
ExposureCompensation | 0 |
ExposureMode | Auto |
ExposureProgram | Program AE |
ExposureTime | 1/400 |
FillLight | 0 |
Flash | No Flash |
FlashFired | False |
FlashFunction | False |
FlashMode | Unknown |
FlashRedEyeMode | False |
FlashReturn | No return detection |
FNumber | 10.0 |
FocalLength | 20.0 mm |
FocalLength35efl | 20.0 mm (35 mm equivalent: 30.0 mm) |
FocalLengthIn35mmFormat | 30 mm |
FOV | 61.9 deg |
GainControl | None |
GradientBasedCorrActive | true |
GradientBasedCorrAmount | 1.000000 |
GradientBasedCorrBrightness | 0.000000 |
GradientBasedCorrClarity (1) | 0.600000 |
GradientBasedCorrClarity | 0.000000 |
GradientBasedCorrContrast (1) | 0.000000 |
GradientBasedCorrContrast | -0.025000 |
GradientBasedCorrExposure | -0.350000 |
GradientBasedCorrHue (1) | 238.000000 |
GradientBasedCorrHue | 233.000000 |
GradientBasedCorrMaskFullX (1) | 0.490047 |
GradientBasedCorrMaskFullX | 0.496407 |
GradientBasedCorrMaskFullY (1) | -0.010526 |
GradientBasedCorrMaskFullY | -0.008103 |
GradientBasedCorrMaskValue | 1.000000 |
GradientBasedCorrMaskWhat | Mask/Gradient |
GradientBasedCorrMaskZeroX (1) | 0.500444 |
GradientBasedCorrMaskZeroX | 0.496279 |
GradientBasedCorrMaskZeroY (1) | 0.227482 |
GradientBasedCorrMaskZeroY | 0.101354 |
GradientBasedCorrSaturation (1) | 0.175000 |
GradientBasedCorrSaturation (2) | 0.540000 |
GradientBasedCorrSaturation (3) | 0.000000 |
GradientBasedCorrSaturation | 0.420000 |
GradientBasedCorrSharpness (1) | 0.575000 |
GradientBasedCorrSharpness | 0.000000 |
GradientBasedCorrWhat | Correction |
GreenHue | 0 |
GreenSaturation | 0 |
HasCrop | True |
HasSettings | True |
HighlightRecovery | 0 |
HueAdjustmentAqua | 0 |
HueAdjustmentBlue | 0 |
HueAdjustmentGreen | 0 |
HueAdjustmentMagenta | 0 |
HueAdjustmentOrange | 0 |
HueAdjustmentPurple | 0 |
HueAdjustmentRed | 0 |
HueAdjustmentYellow | 0 |
HyperfocalDistance | 2.00 m |
ImageHeight | 2931 |
ImageNumber | 4855 |
ImageSize | 1902x2931 |
ImageWidth | 1902 |
IncrementalTemperature | 0 |
IncrementalTint | 0 |
ISO | 200 |
Keywords | Sommeren 2009 |
LastKeywordXMP | Sommeren 2009 |
Lens | 18.0-55.0 mm f/3.5-5.6 |
LensInfo | 18-55mm f/3.5-5.6 |
LightSource | Cloudy |
LightValue | 14.3 |
LuminanceAdjustmentAqua | 0 |
LuminanceAdjustmentBlue | 0 |
LuminanceAdjustmentGreen | +29 |
LuminanceAdjustmentMagenta | 0 |
LuminanceAdjustmentOrange | +12 |
LuminanceAdjustmentPurple | 0 |
LuminanceAdjustmentRed | -21 |
LuminanceAdjustmentYellow | +64 |
LuminanceSmoothing | 74 |
Make | NIKON CORPORATION |
MaxApertureValue | 3.6 |
Megapixels | 5.6 |
MeteringMode | Spot |
Model | NIKON D40 |
ModifyDate (1) | 2010:06:08 12:46:39+02:00 |
ModifyDate | 2010:06:08 12:46:39 |
PaintCorrectionActive | true |
PaintCorrectionAmount | 1.000000 |
PaintCorrectionBrightness (1) | 0.050000 |
PaintCorrectionBrightness | 0.000000 |
PaintCorrectionClarity (1) | 0.750000 |
PaintCorrectionClarity (2) | 0.000000 |
PaintCorrectionClarity | 1.000000 |
PaintCorrectionContrast | 0.000000 |
PaintCorrectionExposure (1) | 0.225000 |
PaintCorrectionExposure (2) | 0.050000 |
PaintCorrectionExposure | 0.000000 |
PaintCorrectionHue | 233.000000 |
PaintCorrectionMaskCenterWeight (1) | 0.124420 |
PaintCorrectionMaskCenterWeight | 0.035858 |
PaintCorrectionMaskFlow | 1.000000 |
PaintCorrectionMaskRadius (1) | 0.124106 |
PaintCorrectionMaskRadius (2) | 0.019509 |
PaintCorrectionMaskRadius | 0.366991 |
PaintCorrectionMaskValue (1) | 1.000000 |
PaintCorrectionMaskValue | 0.538000 |
PaintCorrectionMaskWhat | Mask/Paint |
PaintCorrectionSaturation (3) | 0.000000 |
PaintCorrectionSaturation (5) | 0.550000 |
PaintCorrectionSaturation | 0.420000 |
PaintCorrectionSharpness (1) | 0.750000 |
PaintCorrectionSharpness (2) | 0.000000 |
PaintCorrectionSharpness | 0.700000 |
PaintCorrectionWhat | Correction |
ParametricDarks | 0 |
ParametricHighlights | 0 |
ParametricHighlightSplit | 75 |
ParametricLights | 0 |
ParametricMidtoneSplit | 50 |
ParametricShadows | 0 |
ParametricShadowSplit | 25 |
PostCropVignetteAmount | 0 |
ProfileDescription | sRGB IEC61966-2.1 |
RedHue | 0 |
RedSaturation | 0 |
Saturation (2) | +52 |
Saturation | Normal |
SaturationAdjustmentAqua | +12 |
SaturationAdjustmentBlue | +81 |
SaturationAdjustmentGreen | +98 |
SaturationAdjustmentMagenta | 0 |
SaturationAdjustmentOrange | +21 |
SaturationAdjustmentPurple | 0 |
SaturationAdjustmentRed | 0 |
SaturationAdjustmentYellow | +55 |
ScaleFactor35efl | 1.5 |
SceneCaptureType | Standard |
SceneType | Directly photographed |
SensingMethod | One-chip color area |
SerialNumber | 6112446 |
Shadows | 0 |
ShadowTint | 0 |
SharpenDetail | 44 |
SharpenEdgeMasking | 0 |
SharpenRadius | +1.0 |
Sharpness (2) | 61 |
Sharpness | Normal |
ShutterSpeed | 1/400 |
ShutterSpeedValue | 1/400 |
Software | Microsoft Windows Photo Gallery 6.0.6001.18000 |
SplitToningBalance | 0 |
SplitToningHighlightHue | 0 |
SplitToningHighlightSaturation | 0 |
SplitToningShadowHue | 0 |
SplitToningShadowSaturation | 0 |
Subject | Sommeren 2009 |
SubjectDistanceRange | Unknown |
ToneCurve | 0, 0, 255, 255 |
ToneCurveName | Linear |
Version | 5.3 |
Vibrance | 0 |
VignetteAmount | 0 |
WhiteBalance (2) | As Shot |
WhiteBalance | Manual |