Felt | Verdi |
AlreadyApplied | True |
Aperture | 13.0 |
ApertureValue | 13.0 |
BitsPerSample | 8 |
BlueHue | 0 |
BlueSaturation | 0 |
Brightness | +66 |
CameraProfile | Adobe Standard |
CFAPattern | [Green,Red][Blue,Green] |
ChromaticAberrationB | 0 |
ChromaticAberrationR | 0 |
CircleOfConfusion | 0.020 mm |
Clarity | -98 |
ColorComponents | 3 |
ColorMode | RGB |
ColorNoiseReduction | 25 |
ColorSpace | Uncalibrated |
ColorTemperature | 4550 |
Contrast (2) | +98 |
Contrast | Low |
ConvertToGrayscale | False |
CreateDate (1) | 2010:09:07 15:10:06.49+02:00 |
CreateDate | 2010:09:07 15:10:06 |
CreatorTool | Microsoft Windows Photo Gallery 6.0.6001.18000 |
CustomRendered | Normal |
DateTimeDigitized | 2010:09:07 15:10:06.49+02:00 |
DateTimeOriginal (1) | 2010:09:07 15:10:06.49+02:00 |
DateTimeOriginal | 2010:09:07 15:10:06 |
Defringe | 0 |
DigitalZoomRatio | 1 |
DOF | 4.32 m (14.91 - 19.24 m) |
ExifImageHeight | 1024 |
ExifImageWidth | 627 |
Exposure | -0.35 |
ExposureCompensation | 0 |
ExposureMode | Manual |
ExposureProgram | Manual |
ExposureTime | 1/5 |
FillLight | 10 |
Flash | No Flash |
FlashFired | False |
FlashFunction | False |
FlashMode | Unknown |
FlashRedEyeMode | False |
FlashReturn | No return detection |
FNumber | 13.0 |
FocalLength | 185.0 mm |
FocalLength35efl | 185.0 mm (35 mm equivalent: 277.0 mm) |
FocalLengthIn35mmFormat | 277 mm |
Format | image/jpeg |
FOV | 7.4 deg |
GainControl | None |
GreenHue | 0 |
GreenSaturation | 0 |
HasCrop | False |
HasSettings | True |
HighlightRecovery | 22 |
HueAdjustmentAqua | +3 |
HueAdjustmentBlue | +4 |
HueAdjustmentGreen | +3 |
HueAdjustmentMagenta | -5 |
HueAdjustmentOrange | +7 |
HueAdjustmentPurple | -29 |
HueAdjustmentRed | +4 |
HueAdjustmentYellow | +9 |
HyperfocalDistance | 131.20 m |
ICCProfileName | Adobe RGB (1998) |
ImageHeight | 1024 |
ImageNumber | 7152 |
ImageSize | 627x1024 |
ImageWidth | 627 |
ISO | 200 |
Lens | 28.0-200.0 mm f/3.5-5.6 |
LensID (1) | 77 |
LensID | Tamron AF 28-200mm f/3.8-5.6 XR Aspherical (IF) Macro (A03N) or AF Zoom-Nikkor 28-200mm f/3.5-5.6D IF |
LensInfo | 28-200mm f/3.5-5.6 |
LightSource | Unknown |
LightValue | 8.7 |
LuminanceAdjustmentAqua | 0 |
LuminanceAdjustmentBlue | 0 |
LuminanceAdjustmentGreen | 0 |
LuminanceAdjustmentMagenta | 0 |
LuminanceAdjustmentOrange | 0 |
LuminanceAdjustmentPurple | 0 |
LuminanceAdjustmentRed | 0 |
LuminanceAdjustmentYellow | 0 |
LuminanceSmoothing | 3 |
Make | NIKON CORPORATION |
MaxApertureValue | 5.7 |
Megapixels | 0.642 |
MeteringMode | Multi-segment |
Model | NIKON D200 |
ModifyDate (1) | 2010:09:23 21:00:26+02:00 |
ModifyDate | 2010:11:29 17:30:48 |
Orientation | Horizontal (normal) |
OriginatingProgram | Microsoft Windows Photo Gallery 6.0.6001.18000 |
ParametricDarks | 0 |
ParametricHighlights | +77 |
ParametricHighlightSplit | 75 |
ParametricLights | +16 |
ParametricMidtoneSplit | 50 |
ParametricShadows | -38 |
ParametricShadowSplit | 25 |
PostCropVignetteAmount | 0 |
ProfileDescription | Adobe RGB (1998) |
Rating | 0 |
RawFileName | _DSC7129.NEF |
RedHue | 0 |
RedSaturation | 0 |
Saturation (2) | +13 |
Saturation | Normal |
SaturationAdjustmentAqua | 0 |
SaturationAdjustmentBlue | 0 |
SaturationAdjustmentGreen | 0 |
SaturationAdjustmentMagenta | 0 |
SaturationAdjustmentOrange | 0 |
SaturationAdjustmentPurple | 0 |
SaturationAdjustmentRed | 0 |
SaturationAdjustmentYellow | 0 |
ScaleFactor35efl | 1.5 |
SceneCaptureType | Standard |
SceneType | Directly photographed |
SensingMethod | One-chip color area |
Shadows | 10 |
ShadowTint | 0 |
SharpenDetail | 25 |
SharpenEdgeMasking | 22 |
SharpenRadius | +1.0 |
Sharpness (2) | 55 |
Sharpness | Soft |
ShutterSpeed | 1/5 |
ShutterSpeedValue | 1/5 |
SidecarForExtension | NEF |
Software | Microsoft Windows Photo Gallery 6.0.6001.18000 |
SplitToningBalance | 0 |
SplitToningHighlightHue | 0 |
SplitToningHighlightSaturation | 0 |
SplitToningShadowHue | 0 |
SplitToningShadowSaturation | 0 |
SubjectDistance | 16.8 m |
SubjectDistanceRange | Unknown |
Tint | +17 |
ToneCurve | 0, 0, 45, 39, 68, 65, 128, 128, 196, 207, 252, 255 |
ToneCurveName | Custom |
URL_List | |
UserComment | (c)Kjell-Helge Christensen 45854752 |
Version | 5.6 |
Vibrance | +83 |
VignetteAmount | 0 |
WhiteBalance (2) | As Shot |
WhiteBalance | Auto |