Felt | Verdi |
AlreadyApplied | True |
Aperture | 11.0 |
ApertureValue | 11.0 |
Artist | PHOTOGRAPHER NANDOR TAMAS -DIGG.NO |
BitsPerSample | 8 |
BlueHue | 0 |
BlueSaturation | 0 |
Brightness | +98 |
By-line | PHOTOGRAPHER NANDOR TAMAS -DIGG. |
CameraProfile | Adobe Standard |
CFAPattern | [Red,Green][Green,Blue] |
ChromaticAberrationB | 0 |
ChromaticAberrationR | 0 |
CircleOfConfusion | 0.030 mm |
Clarity | 0 |
ColorComponents | 3 |
ColorMode | RGB |
ColorNoiseReduction | 25 |
ColorNoiseReductionDetail | 50 |
ColorSpace | Uncalibrated |
ColorTemperature | 5100 |
Contrast (1) | +100 |
Contrast | Normal |
ConvertToGrayscale | False |
Copyright | NANDOR TAMAS - FOTO@DIGG.NO - TLF:+47 901 84 092 |
CopyrightNotice | NANDOR TAMAS - FOTO@DIGG.NO - TLF:+47 901 84 092 |
CreateDate (1) | 2010:11:04 13:57:09.25+01:00 |
CreateDate | 2010:11:04 13:57:09 |
Creator | PHOTOGRAPHER NANDOR TAMAS -DIGG.NO |
CreatorTool | Ver.2.01 |
CustomRendered | Normal |
DateCreated (1) | 2010:11:04 |
DateCreated | 2010:11:04 13:57:09.025 |
DateTimeOriginal | 2010:11:04 13:57:09 |
Defringe | 0 |
DigitalZoomRatio | 1 |
DOF | inf (3.10 m - inf) |
ExifImageHeight | 2576 |
ExifImageWidth | 3100 |
Exposure | 0.00 |
ExposureCompensation | +5/3 |
ExposureMode | Manual |
ExposureProgram | Manual |
ExposureTime | 1/125 |
FillLight | 29 |
Flash | No Flash |
FNumber | 11.0 |
FocalLength | 32.0 mm |
FocalLength35efl | 32.0 mm (35 mm equivalent: 32.0 mm) |
FocalLengthIn35mmFormat | 32 mm |
Format | image/jpeg |
FOV | 58.7 deg |
GainControl | None |
GrainAmount | 0 |
GreenHue | 0 |
GreenSaturation | 0 |
HasCrop | False |
HasSettings | True |
HighlightRecovery | 0 |
HueAdjustmentAqua | 0 |
HueAdjustmentBlue | 0 |
HueAdjustmentGreen | 0 |
HueAdjustmentMagenta | 0 |
HueAdjustmentOrange | 0 |
HueAdjustmentPurple | 0 |
HueAdjustmentRed | 0 |
HueAdjustmentYellow | 0 |
HyperfocalDistance | 3.10 m |
ICCProfileName | Adobe RGB (1998) |
ImageHeight | 2576 |
ImageNumber | 52682 |
ImageSize | 3100x2576 |
ImageWidth | 3100 |
ISO | 100 |
Lens | 24.0-120.0 mm f/3.5-5.6 |
LensID (1) | 120 |
LensID | AF-S VR Zoom-Nikkor 24-120mm f/3.5-5.6G IF-ED |
LensInfo | 24-120mm f/3.5-5.6 |
LightSource | Unknown |
LightValue | 13.9 |
LuminanceAdjustmentAqua | 0 |
LuminanceAdjustmentBlue | 0 |
LuminanceAdjustmentGreen | 0 |
LuminanceAdjustmentMagenta | 0 |
LuminanceAdjustmentOrange | 0 |
LuminanceAdjustmentPurple | 0 |
LuminanceAdjustmentRed | 0 |
LuminanceAdjustmentYellow | 0 |
LuminanceSmoothing | 0 |
Make | NIKON CORPORATION |
MaxApertureValue | 3.9 |
Megapixels | 8.0 |
MeteringMode | Multi-segment |
Model | NIKON D3 |
ModifyDate (1) | 2010:11:11 20:00:50+01:00 |
ModifyDate | 2010:11:11 20:00:50 |
Orientation | Horizontal (normal) |
ParametricDarks | 0 |
ParametricHighlights | 0 |
ParametricHighlightSplit | 75 |
ParametricLights | 0 |
ParametricMidtoneSplit | 50 |
ParametricShadows | 0 |
ParametricShadowSplit | 25 |
PostCropVignetteAmount | 0 |
ProcessVersion | 5.7 |
ProfileDescription | Adobe RGB (1998) |
Rating | 0 |
RawFileName | _NLT0547.NEF |
RedHue | 0 |
RedSaturation | 0 |
Rights | NANDOR TAMAS - FOTO@DIGG.NO - TLF:+47 901 84 092 |
Saturation (1) | 0 |
Saturation | Normal |
SaturationAdjustmentAqua | 0 |
SaturationAdjustmentBlue | 0 |
SaturationAdjustmentGreen | 0 |
SaturationAdjustmentMagenta | 0 |
SaturationAdjustmentOrange | 0 |
SaturationAdjustmentPurple | 0 |
SaturationAdjustmentRed | 0 |
SaturationAdjustmentYellow | 0 |
ScaleFactor35efl | 1.0 |
SceneCaptureType | Standard |
SceneType | Directly photographed |
SensingMethod | One-chip color area |
SerialNumber | 2044742 |
Shadows | 36 |
ShadowTint | 0 |
SharpenDetail | 25 |
SharpenEdgeMasking | 0 |
SharpenRadius | +1.0 |
Sharpness (1) | 25 |
Sharpness | Normal |
ShutterSpeed | 1/125 |
ShutterSpeedValue | 1/125 |
SidecarForExtension | NEF |
Software | Adobe Photoshop CS5 Windows |
SplitToningBalance | 0 |
SplitToningHighlightHue | 0 |
SplitToningHighlightSaturation | 0 |
SplitToningShadowHue | 0 |
SplitToningShadowSaturation | 0 |
SubjectDistance | 4294967295 m |
SubjectDistanceRange | Unknown |
Tint | -5 |
ToneCurve | 0, 0, 32, 22, 64, 56, 128, 128, 192, 196, 255, 255 |
ToneCurveName | Medium Contrast |
URL_List | |
Version | 6.0 |
Vibrance | 0 |
VignetteAmount | 0 |
WhiteBalance (1) | As Shot |
WhiteBalance | Auto |