Felt | Verdi |
AlreadyApplied | True |
Aperture | 11.0 |
ApertureValue | 11.0 |
ApproximateFocusDistance | 1.48 |
BitsPerSample (1) | 8, 8, 8 |
BitsPerSample | 8 |
BlueHue | 0 |
BlueSaturation | 0 |
Brightness | +50 |
CameraProfile | Adobe Standard |
ChromaticAberrationB | 0 |
ChromaticAberrationR | 0 |
CircleOfConfusion | 0.019 mm |
Clarity | +20 |
ColorComponents | 3 |
ColorMode | RGB |
ColorNoiseReduction | 25 |
ColorNoiseReductionDetail | 50 |
ColorSpace | sRGB |
ColorTemperature | 6300 |
Contrast | +30 |
ConvertToGrayscale | False |
CreateDate (1) | 2013:01:20 14:07:56.00 |
CreateDate | 2013:01:20 14:07:56 |
CustomRendered | Normal |
DateCreated | 2013:01:20 |
DateTimeDigitized | 2013:01:20 14:07:56+01:00 |
DateTimeOriginal (1) | 2013:01:20 14:07:56.00 |
DateTimeOriginal | 2013:01:20 14:07:56 |
Defringe | 0 |
DOF | 0.30 m (1.35 - 1.64 m) |
ExifImageHeight | 3048 |
ExifImageWidth | 4755 |
Exposure | 0.00 |
ExposureCompensation | 0 |
ExposureMode | Manual |
ExposureProgram | Manual |
ExposureTime | 1/200 |
FillLight | 15 |
Firmware | 1.1.1 |
Flash | On, Fired |
FlashCompensation | 0 |
FlashFired | True |
FlashFunction | False |
FlashMode | On |
FlashRedEyeMode | False |
FlashReturn | No return detection |
FNumber | 11.0 |
FocalLength | 55.0 mm |
FocalLength35efl | 55.0 mm (35 mm equivalent: 86.5 mm) |
Format | image/jpeg |
FOV | 23.5 deg |
GrainAmount | 0 |
GreenHue | 0 |
GreenSaturation | 0 |
HasCrop | False |
HasSettings | True |
HighlightRecovery | 0 |
HueAdjustmentAqua | 0 |
HueAdjustmentBlue | 0 |
HueAdjustmentGreen | 0 |
HueAdjustmentMagenta | 0 |
HueAdjustmentOrange | 0 |
HueAdjustmentPurple | 0 |
HueAdjustmentRed | 0 |
HueAdjustmentYellow | 0 |
HyperfocalDistance | 14.39 m |
ICCProfileName | sRGB IEC61966-2.1 |
ImageHeight | 3048 |
ImageNumber | 0 |
ImageSize | 4755x3048 |
ImageWidth | 4755 |
ISO | 100 |
Lens | EF24-105mm f/4L IS USM |
LensID (1) | 237 |
LensID | Canon EF 24-105mm f/4L IS USM |
LensInfo | 24-105mm f/? |
LensManualDistortionAmount | 0 |
LensModel | EF24-105mm f/4L IS USM |
LensProfileEnable | 0 |
LensProfileSetup | LensDefaults |
LensSerialNumber | 000030d3cd |
LightValue | 14.6 |
LuminanceAdjustmentAqua | 0 |
LuminanceAdjustmentBlue | 0 |
LuminanceAdjustmentGreen | 0 |
LuminanceAdjustmentMagenta | 0 |
LuminanceAdjustmentOrange | 0 |
LuminanceAdjustmentPurple | 0 |
LuminanceAdjustmentRed | 0 |
LuminanceAdjustmentYellow | 0 |
LuminanceSmoothing | 0 |
Make | Canon |
MaxApertureValue | 4.0 |
Megapixels | 14.5 |
MeteringMode | Multi-segment |
Model | Canon EOS 60D |
ModifyDate (1) | 2013:01:20 19:07:41+01:00 |
ModifyDate | 2013:01:20 19:07:41 |
Orientation | Horizontal (normal) |
ParametricDarks | 0 |
ParametricHighlights | 0 |
ParametricHighlightSplit | 75 |
ParametricLights | 0 |
ParametricMidtoneSplit | 50 |
ParametricShadows | 0 |
ParametricShadowSplit | 25 |
PerspectiveHorizontal | 0 |
PerspectiveRotate | 0.0 |
PerspectiveScale | 100 |
PerspectiveVertical | 0 |
PhotometricInterpretation | RGB |
PlanarConfiguration | Chunky |
PostCropVignetteAmount | 0 |
ProcessVersion | 5.7 |
ProfileDescription | sRGB IEC61966-2.1 |
Rating | 0 |
RawFileName | flaske1.CR2 |
RecommendedExposureIndex | 100 |
RedHue | 0 |
RedSaturation | 0 |
SamplesPerPixel | 3 |
Saturation | +20 |
SaturationAdjustmentAqua | 0 |
SaturationAdjustmentBlue | 0 |
SaturationAdjustmentGreen | 0 |
SaturationAdjustmentMagenta | 0 |
SaturationAdjustmentOrange | 0 |
SaturationAdjustmentPurple | 0 |
SaturationAdjustmentRed | 0 |
SaturationAdjustmentYellow | 0 |
ScaleFactor35efl | 1.6 |
SceneCaptureType | Standard |
SensitivityType (1) | 2 |
SensitivityType | Recommended Exposure Index |
SerialNumber | 0480258603 |
Shadows | 8 |
ShadowTint | 0 |
SharpenDetail | 25 |
SharpenEdgeMasking | 0 |
SharpenRadius | +1.0 |
Sharpness | 25 |
ShutterSpeed | 1/200 |
ShutterSpeedValue | 1/200 |
Software | Adobe Photoshop Elements 9 Editor 9.0 Macintosh |
SplitToningBalance | 0 |
SplitToningHighlightHue | 0 |
SplitToningHighlightSaturation | 0 |
SplitToningShadowHue | 0 |
SplitToningShadowSaturation | 0 |
SubjectDistance | 1.48 m |
Tint | +6 |
ToneCurve | 0, 0, 32, 22, 64, 56, 128, 128, 192, 196, 255, 255 |
ToneCurveName | Medium Contrast |
URL_List | |
Version | 6.4.1 |
Vibrance | +20 |
VignetteAmount | 0 |
WhiteBalance (2) | As Shot |
WhiteBalance | Manual |