Felt | Verdi |
AlreadyApplied | True |
Aperture | 8.0 |
ApertureValue | 8.0 |
AutoLateralCA | 0 |
BitsPerSample | 8 |
Blacks2012 | -34 |
BlueHue | 0 |
BlueSaturation | 0 |
CameraProfile | Embedded |
Clarity2012 | 0 |
ColorComponents | 3 |
ColorMode | RGB |
ColorNoiseReduction | 25 |
ColorNoiseReductionDetail | 50 |
ColorSpace | Uncalibrated |
Contrast2012 | 0 |
ConvertToGrayscale | True |
CreateDate | 2013:09:16 14:11:56 |
CreatorTool | QuickTime 7.7.1 |
CropAngle | 0 |
CropBottom | 0.850972 |
CropConstrainToWarp | 0 |
CropLeft | 0 |
CropRight | 0.852258 |
CropTop | 0.205144 |
DateCreated (1) | 2013:09:16 |
DateCreated | 2013:09:16 14:11:56 |
DateTimeOriginal | 2013:09:16 14:11:56 |
ExifImageHeight | 2418 |
ExifImageWidth | 4786 |
Exposure2012 | +0.30 |
ExposureCompensation | 0 |
ExposureProgram | Manual |
ExposureTime | 1/250 |
Flash | Off, Did not fire |
FNumber | 8.0 |
FocalLength | 50.0 mm |
FocalLength35efl | 50.0 mm |
Format | image/jpeg |
GrainAmount | 0 |
GrayMixerAqua | 0 |
GrayMixerBlue | 0 |
GrayMixerGreen | 0 |
GrayMixerMagenta | 0 |
GrayMixerOrange | 0 |
GrayMixerPurple | 0 |
GrayMixerRed | 0 |
GrayMixerYellow | 0 |
GreenHue | 0 |
GreenSaturation | 0 |
HasCrop | True |
HasSettings | True |
Highlights2012 | -20 |
ICCProfileName | ProPhoto RGB |
ImageHeight | 2418 |
ImageSize | 4786x2418 |
ImageWidth | 4786 |
IncrementalTemperature | 0 |
IncrementalTint | 0 |
ISO | 100 |
Label | |
LensManualDistortionAmount | 0 |
LensProfileEnable | 0 |
LensProfileSetup | LensDefaults |
LightValue | 14.0 |
LuminanceSmoothing | 0 |
Make | Canon |
MaxApertureValue | 1.6 |
Megapixels | 11.6 |
MeteringMode | Spot |
Model | Canon EOS 5D Mark II |
ModifyDate (1) | 2013:09:16 17:31:25+02:00 |
ModifyDate | 2013:09:16 17:31:25 |
Orientation | Horizontal (normal) |
ParametricDarks | -15 |
ParametricHighlights | 0 |
ParametricHighlightSplit | 75 |
ParametricLights | 0 |
ParametricMidtoneSplit | 50 |
ParametricShadows | 0 |
ParametricShadowSplit | 25 |
PerspectiveAspect | 0 |
PerspectiveHorizontal | 0 |
PerspectiveRotate | 0.0 |
PerspectiveScale | 100 |
PerspectiveUpright | 0 |
PerspectiveVertical | 0 |
PostCropVignetteAmount | 0 |
ProcessVersion | 6.7 |
ProfileDescription | ProPhoto RGB |
Rating | 0 |
RawFileName | IMG_0041.jpg |
RedHue | 0 |
RedSaturation | 0 |
Shadows2012 | +7 |
ShadowTint | 0 |
SharpenDetail | 25 |
SharpenEdgeMasking | 0 |
SharpenRadius | +1.0 |
Sharpness | 25 |
ShutterSpeed | 1/250 |
ShutterSpeedValue | 1/250 |
Software | Adobe Photoshop CC (Macintosh) |
SplitToningBalance | +85 |
SplitToningHighlightHue | 37 |
SplitToningHighlightSaturation | 40 |
SplitToningShadowHue | 246 |
SplitToningShadowSaturation | 74 |
ToneCurveName2012 | Linear |
ToneCurvePV2012 | 0, 0, 255, 255 |
ToneCurvePV2012Blue | 0, 0, 255, 255 |
ToneCurvePV2012Green | 0, 0, 255, 255 |
ToneCurvePV2012Red | 0, 0, 255, 255 |
URL_List | |
Version | 8.1 |
VignetteAmount | 0 |
WhiteBalance | As Shot |
Whites2012 | +59 |